Workbook

Sheet Instructions
D2: Appel à Manifestation d’Intérêt 2026
D3: Université, Emploi et Handicap
D5: Budget prévisionnel
B9: Présentation générale
B11: Le présent fichier excel vise à obtenir une vue détaillée du budget prévisionnel de l'établissement
B12: dans le cadre de la candidature à l'appel à Manifestation d'Intérêt "Université, Emploi et Handicap".
B13: Le respect de la nature du fichier est impératif.
B15: Organisation du tableau
B17: La première partie du tableau permet d'indiquer les dépenses prévisionnelles, pour chaque dépense
B18: une case "Commentaire" est associée et permet d'apporter des précisions.
B31: La deuxième partie permet d'indiquer les différentes sources de financement.
B32: Il est possible d'ajouter autant de financeurs que possible, tout en spécifiant le pourcentage de financement.
B45: Cette vue d'ensemble des dépenses prévisionnelles et des financements doit être reproduite
B46: pour chaque année du projet, dans chaque onglet dédié.
B48: Un tableau de synthèse s'affiche dans le dernier onglet "Buget consolidé",
... B52: contact-handinnov@agefiph.asso.fr

Sheet Budget prévisionnel 2027
E2: Appel à Manifestation d’Intérêt 2026
E3: Université, Emploi et Handicap
B6: Vue d’ensemble du budget du projet par année, en euros, en nombre entier et en TTC :
B8: Dépenses prévisionnelles | E8: Financements
B9: Détails | C9: Montant (€) | D9: Commentaire | E9: Détails | G9: Montant net sollicité (€) | H9: % du financement total
B10: Frais de personnel | E10: Financement net demandé à l'Agefiph
B11: Frais techniques | E11: Fonds propres (ressources de l'établissement)
B12: Autre (précisez) | E12: Total autres financements
E13: Détails autres financements
E14: Financeur 1 (nom) | F14: Statut (acquis, attente, à prévoir)
E15: Financeur 2 (nom) | F15: Statut (acquis, attente, à prévoir)
B16: TOTAL | C16: =SUM(C10+C11+C12) -> 0 | E16: TOTAL | G16: =SUM(G10+G11+G12) -> 0

Sheet Budget prévisionnel 2028
E2: Appel à Manifestation d’Intérêt 2026
E3: Université, Emploi et Handicap
B6: Vue d’ensemble du budget du projet par année, en euros, en nombre entier et en TTC :
B8: Dépenses prévisionnelles | E8: Financements
B9: Détails | C9: Montant (€) | D9: Commentaire | E9: Détails | G9: Montant net sollicité (€) | H9: % du financement total
B10: Frais de personnel | E10: Financement net demandé à l'Agefiph
B11: Frais techniques | E11: Fonds propres (ressources de l'établissement)
B12: Autre (précisez) | E12: Total autres financements
E13: Détails autres financements
E14: Financeur 1 (nom) | F14: Statut (acquis, attente, à prévoir)
E15: Financeur 2 (nom) | F15: Statut (acquis, attente, à prévoir)
B16: TOTAL | C16: =SUM(C10+C11+C12) -> 0 | E16: TOTAL | G16: =SUM(G10+G11+G12) -> 0

Sheet Budget prévisionnel 2029
E2: Appel à Manifestation d’Intérêt 2026
E3: Université, Emploi et Handicap
B6: Vue d’ensemble du budget du projet par année, en euros, en nombre entier et en TTC :
B8: Dépenses prévisionnelles | E8: Financements
B9: Détails | C9: Montant (€) | D9: Commentaire | E9: Détails | G9: Montant net sollicité (€) | H9: % du financement total
B10: Frais de personnel | E10: Financement net demandé à l'Agefiph
B11: Frais techniques | E11: Fonds propres (ressources de l'établissement)
B12: Autre (précisez) | E12: Total autres financements
E13: Détails autres financements
E14: Financeur 1 (nom) | F14: Statut (acquis, attente, à prévoir)
E15: Financeur 2 (nom) | F15: Statut (acquis, attente, à prévoir)
B16: TOTAL | C16: =SUM(C10+C11+C12) -> 0 | E16: TOTAL | G16: =SUM(G10+G11+G12) -> 0

Sheet Budget consolidé 2027-2029
C2: Appel à Manifestation d’Intérêt 2026
C3: Université, Emploi et Handicap
C7: 2027 | D7: 2028 | E7: 2029 | F7: TOTAL
B8: Total financement par l'AMI "Université, Emploi et Handicap" | C8: ='Budget prévisionnel 2027'!G10 -> 0 | D8: ='Budget prévisionnel 2028'!G10 -> 0 | E8: ='Budget prévisionnel 2029'!G10 -> 0 | F8: =SUM(C8:E8) -> 0
B9: Total financement par les ressources de l'établissement | C9: ='Budget prévisionnel 2027'!G11 -> 0 | D9: ='Budget prévisionnel 2028'!G11 -> 0 | E9: ='Budget prévisionnel 2029'!G11 -> 0 | F9: =SUM(C9:E9) -> 0
B10: Total autres financements | C10: ='Budget prévisionnel 2027'!G12 -> 0 | D10: ='Budget prévisionnel 2028'!G12 -> 0 | E10: ='Budget prévisionnel 2029'!G12 -> 0 | F10: =SUM(C10:E10) -> 0
B11: Total budget dédié au projet | C11: =SUM(C8:C10) -> 0 | D11: =SUM(D8:D10) -> 0 | E11: =SUM(E8:E10) -> 0
